Package: doseR Version: 1.26.0 Command: /home/biocbuild/bbs-3.22-bioc/R/bin/R CMD build --keep-empty-dirs --no-resave-data --md5 doseR StartedAt: 2025-11-04 17:23:37 -0500 (Tue, 04 Nov 2025) EndedAt: 2025-11-04 17:24:09 -0500 (Tue, 04 Nov 2025) EllapsedTime: 32.0 seconds RetCode: 0 Status: OK PackageFile: doseR_1.26.0.tar.gz PackageFileSize: 1.341 MiB