Package: dmrseq Version: 1.30.0 Command: /home/biocbuild/bbs-3.22-bioc/R/bin/R CMD INSTALL dmrseq StartedAt: 2025-11-17 17:54:17 -0500 (Mon, 17 Nov 2025) EndedAt: 2025-11-17 17:55:07 -0500 (Mon, 17 Nov 2025) EllapsedTime: 50.8 seconds RetCode: 0 Status: OK