Package: discordant Version: 1.34.0 Command: /home/biocbuild/bbs-3.22-bioc/R/bin/R CMD INSTALL discordant StartedAt: 2025-11-16 15:13:56 -0500 (Sun, 16 Nov 2025) EndedAt: 2025-11-16 15:14:07 -0500 (Sun, 16 Nov 2025) EllapsedTime: 11.5 seconds RetCode: 0 Status: OK