Package: discordant Version: 1.34.0 Command: /home/biocbuild/bbs-3.22-bioc/R/bin/R CMD build --keep-empty-dirs --no-resave-data --md5 discordant StartedAt: 2025-11-16 17:27:20 -0500 (Sun, 16 Nov 2025) EndedAt: 2025-11-16 17:28:02 -0500 (Sun, 16 Nov 2025) EllapsedTime: 42.0 seconds RetCode: 0 Status: OK PackageFile: discordant_1.34.0.tar.gz PackageFileSize: 476.8 KiB