Package: dinoR Version: 1.5.0 Command: /home/biocbuild/bbs-3.22-bioc/R/bin/R CMD INSTALL dinoR StartedAt: 2025-10-28 15:20:43 -0400 (Tue, 28 Oct 2025) EndedAt: 2025-10-28 15:21:11 -0400 (Tue, 28 Oct 2025) EllapsedTime: 27.3 seconds RetCode: 0 Status: OK