Package: diffuStats Version: 1.29.0 Command: /home/biocbuild/R/R/bin/R CMD INSTALL diffuStats StartedAt: 2025-10-23 20:24:23 -0000 (Thu, 23 Oct 2025) EndedAt: 2025-10-23 20:25:46 -0000 (Thu, 23 Oct 2025) EllapsedTime: 82.3 seconds RetCode: 0 Status: OK