Package: diffuStats Version: 1.30.0 Command: /Library/Frameworks/R.framework/Resources/bin/R CMD INSTALL diffuStats StartedAt: 2025-11-17 17:00:16 -0500 (Mon, 17 Nov 2025) EndedAt: 2025-11-17 17:01:02 -0500 (Mon, 17 Nov 2025) EllapsedTime: 46.0 seconds RetCode: 0 Status: OK