Package: diffuStats Version: 1.30.0 Command: /Library/Frameworks/R.framework/Resources/bin/R CMD build --keep-empty-dirs --no-resave-data diffuStats StartedAt: 2025-11-17 21:58:55 -0500 (Mon, 17 Nov 2025) EndedAt: 2025-11-17 22:00:42 -0500 (Mon, 17 Nov 2025) EllapsedTime: 107.5 seconds RetCode: 0 Status: OK PackageFile: diffuStats_1.30.0.tar.gz PackageFileSize: 1.329 MiB