Package: diffuStats Version: 1.30.0 Command: /Library/Frameworks/R.framework/Resources/bin/R CMD INSTALL diffuStats StartedAt: 2025-11-17 17:02:29 -0500 (Mon, 17 Nov 2025) EndedAt: 2025-11-17 17:02:38 -0500 (Mon, 17 Nov 2025) EllapsedTime: 8.4 seconds RetCode: 0 Status: OK