Package: diffcyt Version: 1.30.0 Command: /Library/Frameworks/R.framework/Resources/bin/R CMD check --install=check:diffcyt.install-out.txt --library=/Library/Frameworks/R.framework/Resources/library --no-vignettes --timings diffcyt_1.30.0.tar.gz StartedAt: 2025-10-30 20:38:00 -0400 (Thu, 30 Oct 2025) EndedAt: 2025-10-30 20:42:49 -0400 (Thu, 30 Oct 2025) EllapsedTime: 288.9 seconds RetCode: 0 Status: OK CheckDir: diffcyt.Rcheck Warnings: 0