Package: diffcoexp Version: 1.29.0 Command: /home/biocbuild/R/R/bin/R CMD INSTALL diffcoexp StartedAt: 2025-10-23 21:08:11 -0000 (Thu, 23 Oct 2025) EndedAt: 2025-10-23 21:08:52 -0000 (Thu, 23 Oct 2025) EllapsedTime: 41.7 seconds RetCode: 0 Status: OK