Package: diffcoexp Version: 1.29.0 Command: /home/biocbuild/bbs-3.22-bioc/R/bin/R CMD check --install=check:diffcoexp.install-out.txt --library=/home/biocbuild/bbs-3.22-bioc/R/site-library --timings diffcoexp_1.29.0.tar.gz StartedAt: 2025-10-24 23:06:24 -0400 (Fri, 24 Oct 2025) EndedAt: 2025-10-24 23:10:14 -0400 (Fri, 24 Oct 2025) EllapsedTime: 229.2 seconds RetCode: 0 Status: OK CheckDir: diffcoexp.Rcheck Warnings: 0