Package: diffcoexp Version: 1.29.0 Command: /home/biocbuild/bbs-3.22-bioc/R/bin/R CMD build --keep-empty-dirs --no-resave-data --md5 diffcoexp StartedAt: 2025-10-24 17:28:39 -0400 (Fri, 24 Oct 2025) EndedAt: 2025-10-24 17:29:23 -0400 (Fri, 24 Oct 2025) EllapsedTime: 44.0 seconds RetCode: 0 Status: OK PackageFile: diffcoexp_1.29.0.tar.gz PackageFileSize: 294.9 KiB