Package: diffcoexp Version: 1.30.0 Command: /Library/Frameworks/R.framework/Resources/bin/R CMD INSTALL diffcoexp StartedAt: 2025-11-17 18:25:07 -0500 (Mon, 17 Nov 2025) EndedAt: 2025-11-17 18:26:13 -0500 (Mon, 17 Nov 2025) EllapsedTime: 65.8 seconds RetCode: 0 Status: OK