Package: diffcoexp Version: 1.30.0 Command: /Library/Frameworks/R.framework/Resources/bin/R CMD build --keep-empty-dirs --no-resave-data diffcoexp StartedAt: 2025-11-17 21:57:01 -0500 (Mon, 17 Nov 2025) EndedAt: 2025-11-17 21:59:07 -0500 (Mon, 17 Nov 2025) EllapsedTime: 125.4 seconds RetCode: 0 Status: OK PackageFile: diffcoexp_1.30.0.tar.gz PackageFileSize: 293.7 KiB