Package: diffcoexp Version: 1.29.0 Command: /Library/Frameworks/R.framework/Resources/bin/R CMD INSTALL diffcoexp StartedAt: 2025-10-24 15:42:46 -0400 (Fri, 24 Oct 2025) EndedAt: 2025-10-24 15:43:30 -0400 (Fri, 24 Oct 2025) EllapsedTime: 44.4 seconds RetCode: 0 Status: OK