Package: diffcoexp Version: 1.29.0 Command: /Library/Frameworks/R.framework/Resources/bin/R CMD build --keep-empty-dirs --no-resave-data diffcoexp StartedAt: 2025-10-24 16:51:56 -0400 (Fri, 24 Oct 2025) EndedAt: 2025-10-24 16:52:49 -0400 (Fri, 24 Oct 2025) EllapsedTime: 53.7 seconds RetCode: 0 Status: OK PackageFile: diffcoexp_1.29.0.tar.gz PackageFileSize: 293.7 KiB