Package: diffcoexp Version: 1.29.0 Command: rm -rf diffcoexp.buildbin-libdir && mkdir diffcoexp.buildbin-libdir && /Users/biocbuild/BBS/utils/build-universal.sh diffcoexp_1.29.0.tar.gz /Library/Frameworks/R.framework/Resources/bin/R diffcoexp.buildbin-libdir StartedAt: 2025-10-25 01:37:17 -0400 (Sat, 25 Oct 2025) EndedAt: 2025-10-25 01:38:03 -0400 (Sat, 25 Oct 2025) EllapsedTime: 46.1 seconds RetCode: 0 Status: OK PackageFile: diffcoexp_1.29.0.tgz PackageFileSize: 318.6 KiB