Package: diffcoexp Version: 1.29.0 Command: /Library/Frameworks/R.framework/Resources/bin/R CMD INSTALL diffcoexp StartedAt: 2025-10-24 15:28:09 -0400 (Fri, 24 Oct 2025) EndedAt: 2025-10-24 15:28:22 -0400 (Fri, 24 Oct 2025) EllapsedTime: 13.4 seconds RetCode: 0 Status: OK