Package: diffcoexp Version: 1.30.0 Command: /Library/Frameworks/R.framework/Resources/bin/R CMD check --install=check:diffcoexp.install-out.txt --library=/Library/Frameworks/R.framework/Resources/library --no-vignettes --timings diffcoexp_1.30.0.tar.gz StartedAt: 2025-11-22 00:24:30 -0500 (Sat, 22 Nov 2025) EndedAt: 2025-11-22 00:30:38 -0500 (Sat, 22 Nov 2025) EllapsedTime: 368.4 seconds RetCode: 0 Status: OK CheckDir: diffcoexp.Rcheck Warnings: 0