Package: diffcoexp Version: 1.30.0 Command: rm -rf diffcoexp.buildbin-libdir && mkdir diffcoexp.buildbin-libdir && /Users/biocbuild/BBS/utils/build-universal.sh diffcoexp_1.30.0.tar.gz /Library/Frameworks/R.framework/Resources/bin/R diffcoexp.buildbin-libdir StartedAt: 2025-11-18 15:27:04 -0500 (Tue, 18 Nov 2025) EndedAt: 2025-11-18 15:27:21 -0500 (Tue, 18 Nov 2025) EllapsedTime: 17.2 seconds RetCode: 0 Status: OK PackageFile: diffcoexp_1.30.0.tgz PackageFileSize: 319.2 KiB