Package: diffUTR Version: 1.18.0 Command: /Library/Frameworks/R.framework/Resources/bin/R CMD check --install=check:diffUTR.install-out.txt --library=/Library/Frameworks/R.framework/Resources/library --no-vignettes --timings diffUTR_1.18.0.tar.gz StartedAt: 2025-11-03 20:48:00 -0500 (Mon, 03 Nov 2025) EndedAt: 2025-11-03 20:53:41 -0500 (Mon, 03 Nov 2025) EllapsedTime: 340.7 seconds RetCode: 0 Status: OK CheckDir: diffUTR.Rcheck Warnings: 0