Package: diffUTR Version: 1.18.0 Command: /Library/Frameworks/R.framework/Resources/bin/R CMD check --install=check:diffUTR.install-out.txt --library=/Library/Frameworks/R.framework/Resources/library --no-vignettes --timings diffUTR_1.18.0.tar.gz StartedAt: 2025-10-30 19:28:56 -0400 (Thu, 30 Oct 2025) EndedAt: 2025-10-30 19:31:00 -0400 (Thu, 30 Oct 2025) EllapsedTime: 124.5 seconds RetCode: 0 Status: OK CheckDir: diffUTR.Rcheck Warnings: 0