Package: diffHic Version: 1.41.0 Command: /home/biocbuild/R/R/bin/R CMD INSTALL diffHic StartedAt: 2025-10-23 20:56:30 -0000 (Thu, 23 Oct 2025) EndedAt: 2025-10-23 20:58:41 -0000 (Thu, 23 Oct 2025) EllapsedTime: 131.1 seconds RetCode: 0 Status: OK