Package: diffHic Version: 1.41.0 Command: /Library/Frameworks/R.framework/Resources/bin/R CMD INSTALL diffHic StartedAt: 2025-10-24 15:21:10 -0400 (Fri, 24 Oct 2025) EndedAt: 2025-10-24 15:21:40 -0400 (Fri, 24 Oct 2025) EllapsedTime: 30.7 seconds RetCode: 0 Status: OK