Package: diffHic Version: 1.41.0 Command: rm -rf diffHic.buildbin-libdir && mkdir diffHic.buildbin-libdir && /Users/biocbuild/BBS/utils/build-universal.sh diffHic_1.41.0.tar.gz /Library/Frameworks/R.framework/Resources/bin/R diffHic.buildbin-libdir StartedAt: 2025-10-24 23:00:57 -0400 (Fri, 24 Oct 2025) EndedAt: 2025-10-24 23:01:31 -0400 (Fri, 24 Oct 2025) EllapsedTime: 33.7 seconds RetCode: 0 Status: OK PackageFile: diffHic_1.41.0.tgz PackageFileSize: 2.523 MiB