Package: diffGeneAnalysis Version: 1.91.0 Command: /home/biocbuild/bbs-3.22-bioc/R/bin/R CMD check --install=check:diffGeneAnalysis.install-out.txt --library=/home/biocbuild/bbs-3.22-bioc/R/site-library --timings diffGeneAnalysis_1.91.0.tar.gz StartedAt: 2025-10-24 23:07:33 -0400 (Fri, 24 Oct 2025) EndedAt: 2025-10-24 23:07:51 -0400 (Fri, 24 Oct 2025) EllapsedTime: 18.0 seconds RetCode: 0 Status: OK CheckDir: diffGeneAnalysis.Rcheck Warnings: 0