Package: diffGeneAnalysis Version: 1.91.0 Command: /home/biocbuild/bbs-3.22-bioc/R/bin/R CMD build --keep-empty-dirs --no-resave-data --md5 diffGeneAnalysis StartedAt: 2025-10-24 17:28:55 -0400 (Fri, 24 Oct 2025) EndedAt: 2025-10-24 17:29:00 -0400 (Fri, 24 Oct 2025) EllapsedTime: 5.0 seconds RetCode: 0 Status: OK PackageFile: diffGeneAnalysis_1.91.0.tar.gz PackageFileSize: 214 KiB