Package: diffGeneAnalysis Version: 1.91.0 Command: /Library/Frameworks/R.framework/Resources/bin/R CMD INSTALL diffGeneAnalysis StartedAt: 2025-10-26 15:02:37 -0400 (Sun, 26 Oct 2025) EndedAt: 2025-10-26 15:02:41 -0400 (Sun, 26 Oct 2025) EllapsedTime: 4.0 seconds RetCode: 0 Status: OK