Package: diffGeneAnalysis Version: 1.92.0 Command: /Library/Frameworks/R.framework/Resources/bin/R CMD check --install=check:diffGeneAnalysis.install-out.txt --library=/Library/Frameworks/R.framework/Resources/library --no-vignettes --timings diffGeneAnalysis_1.92.0.tar.gz StartedAt: 2025-11-10 19:45:38 -0500 (Mon, 10 Nov 2025) EndedAt: 2025-11-10 19:45:49 -0500 (Mon, 10 Nov 2025) EllapsedTime: 11.1 seconds RetCode: 0 Status: OK CheckDir: diffGeneAnalysis.Rcheck Warnings: 0