Package: diffGeneAnalysis Version: 1.91.0 Command: /Library/Frameworks/R.framework/Resources/bin/R CMD build --keep-empty-dirs --no-resave-data diffGeneAnalysis StartedAt: 2025-10-26 16:15:06 -0400 (Sun, 26 Oct 2025) EndedAt: 2025-10-26 16:15:09 -0400 (Sun, 26 Oct 2025) EllapsedTime: 3.0 seconds RetCode: 0 Status: OK PackageFile: diffGeneAnalysis_1.91.0.tar.gz PackageFileSize: 213.2 KiB