Package: derfinderPlot Version: 1.44.0 Command: /home/biocbuild/bbs-3.22-bioc/R/bin/R CMD INSTALL derfinderPlot StartedAt: 2025-10-31 16:10:13 -0400 (Fri, 31 Oct 2025) EndedAt: 2025-10-31 16:11:01 -0400 (Fri, 31 Oct 2025) EllapsedTime: 48.3 seconds RetCode: 0 Status: OK