Package: derfinderPlot Version: 1.44.0 Command: /home/biocbuild/bbs-3.22-bioc/R/bin/R CMD build --keep-empty-dirs --no-resave-data --md5 derfinderPlot StartedAt: 2025-10-31 17:27:27 -0400 (Fri, 31 Oct 2025) EndedAt: 2025-10-31 17:30:42 -0400 (Fri, 31 Oct 2025) EllapsedTime: 195.1 seconds RetCode: 0 Status: OK PackageFile: derfinderPlot_1.44.0.tar.gz PackageFileSize: 2.418 MiB