Package: derfinderHelper Version: 1.44.0 Command: /home/biocbuild/bbs-3.22-bioc/R/bin/R CMD build --keep-empty-dirs --no-resave-data --md5 derfinderHelper StartedAt: 2025-11-02 17:32:34 -0500 (Sun, 02 Nov 2025) EndedAt: 2025-11-02 17:32:50 -0500 (Sun, 02 Nov 2025) EllapsedTime: 16.0 seconds RetCode: 0 Status: OK PackageFile: derfinderHelper_1.44.0.tar.gz PackageFileSize: 310.2 KiB