Package: demuxSNP Version: 1.8.0 Command: /home/biocbuild/bbs-3.22-bioc/R/bin/R CMD INSTALL demuxSNP StartedAt: 2025-11-17 17:52:20 -0500 (Mon, 17 Nov 2025) EndedAt: 2025-11-17 17:53:06 -0500 (Mon, 17 Nov 2025) EllapsedTime: 46.1 seconds RetCode: 0 Status: OK