Package: demuxSNP Version: 1.8.0 Command: /home/biocbuild/bbs-3.22-bioc/R/bin/R CMD build --keep-empty-dirs --no-resave-data --md5 demuxSNP StartedAt: 2025-11-17 20:36:54 -0500 (Mon, 17 Nov 2025) EndedAt: 2025-11-17 20:39:00 -0500 (Mon, 17 Nov 2025) EllapsedTime: 126.1 seconds RetCode: 0 Status: OK PackageFile: demuxSNP_1.8.0.tar.gz PackageFileSize: 1.965 MiB