Package: decoupleR Version: 2.16.0 Command: /home/biocbuild/bbs-3.22-bioc/R/bin/R CMD INSTALL decoupleR StartedAt: 2025-11-16 15:10:31 -0500 (Sun, 16 Nov 2025) EndedAt: 2025-11-16 15:10:43 -0500 (Sun, 16 Nov 2025) EllapsedTime: 11.8 seconds RetCode: 0 Status: OK