Package: decoupleR Version: 2.16.0 Command: /home/biocbuild/bbs-3.22-bioc/R/bin/R CMD build --keep-empty-dirs --no-resave-data --md5 decoupleR StartedAt: 2025-11-16 17:18:57 -0500 (Sun, 16 Nov 2025) EndedAt: 2025-11-16 17:26:21 -0500 (Sun, 16 Nov 2025) EllapsedTime: 444.3 seconds RetCode: 0 Status: OK PackageFile: decoupleR_2.16.0.tar.gz PackageFileSize: 4.483 MiB