Package: deconvR Version: 1.15.1 Command: /home/biocbuild/bbs-3.22-bioc/R/bin/R CMD build --keep-empty-dirs --no-resave-data --md5 deconvR StartedAt: 2025-10-27 17:13:40 -0400 (Mon, 27 Oct 2025) EndedAt: 2025-10-27 17:15:35 -0400 (Mon, 27 Oct 2025) EllapsedTime: 115.2 seconds RetCode: 0 Status: OK PackageFile: deconvR_1.15.1.tar.gz PackageFileSize: 3.795 MiB