Package: decontX Version: 1.8.0 Command: /home/biocbuild/bbs-3.22-bioc/R/bin/R CMD INSTALL decontX StartedAt: 2025-11-17 18:14:07 -0500 (Mon, 17 Nov 2025) EndedAt: 2025-11-17 18:17:09 -0500 (Mon, 17 Nov 2025) EllapsedTime: 181.4 seconds RetCode: 0 Status: OK