Package: decontX Version: 1.8.0 Command: /home/biocbuild/bbs-3.22-bioc/R/bin/R CMD build --keep-empty-dirs --no-resave-data --md5 decontX StartedAt: 2025-11-17 20:32:58 -0500 (Mon, 17 Nov 2025) EndedAt: 2025-11-17 20:40:33 -0500 (Mon, 17 Nov 2025) EllapsedTime: 455.4 seconds RetCode: 0 Status: OK PackageFile: decontX_1.8.0.tar.gz PackageFileSize: 2.057 MiB