Package: decompTumor2Sig Version: 2.26.0 Command: /home/biocbuild/bbs-3.22-bioc/R/bin/R CMD INSTALL decompTumor2Sig StartedAt: 2025-11-02 16:15:34 -0500 (Sun, 02 Nov 2025) EndedAt: 2025-11-02 16:16:24 -0500 (Sun, 02 Nov 2025) EllapsedTime: 50.7 seconds RetCode: 0 Status: OK