Package: decompTumor2Sig Version: 2.26.0 Command: /home/biocbuild/bbs-3.22-bioc/R/bin/R CMD build --keep-empty-dirs --no-resave-data --md5 decompTumor2Sig StartedAt: 2025-11-02 17:26:48 -0500 (Sun, 02 Nov 2025) EndedAt: 2025-11-02 17:31:42 -0500 (Sun, 02 Nov 2025) EllapsedTime: 293.3 seconds RetCode: 0 Status: OK PackageFile: decompTumor2Sig_2.26.0.tar.gz PackageFileSize: 2.754 MiB