Package: debrowser Version: 1.38.0 Command: /home/biocbuild/bbs-3.22-bioc/R/bin/R CMD INSTALL debrowser StartedAt: 2025-11-16 15:53:49 -0500 (Sun, 16 Nov 2025) EndedAt: 2025-11-16 15:54:42 -0500 (Sun, 16 Nov 2025) EllapsedTime: 52.2 seconds RetCode: 0 Status: OK