Package: debrowser Version: 1.38.0 Command: /home/biocbuild/bbs-3.22-bioc/R/bin/R CMD build --keep-empty-dirs --no-resave-data --md5 debrowser StartedAt: 2025-11-16 17:17:50 -0500 (Sun, 16 Nov 2025) EndedAt: 2025-11-16 17:19:17 -0500 (Sun, 16 Nov 2025) EllapsedTime: 87.1 seconds RetCode: 0 Status: OK PackageFile: debrowser_1.38.0.tar.gz PackageFileSize: 18.23 MiB