Package: debCAM Version: 1.28.0 Command: /home/biocbuild/bbs-3.22-bioc/R/bin/R CMD INSTALL debCAM StartedAt: 2025-11-11 16:12:32 -0500 (Tue, 11 Nov 2025) EndedAt: 2025-11-11 16:12:33 -0500 (Tue, 11 Nov 2025) EllapsedTime: 0.2 seconds RetCode: 1 Status: ERROR