Package: ddPCRclust Version: 1.30.0 Command: /Library/Frameworks/R.framework/Resources/bin/R CMD INSTALL ddPCRclust StartedAt: 2025-11-03 15:21:00 -0500 (Mon, 03 Nov 2025) EndedAt: 2025-11-03 15:21:16 -0500 (Mon, 03 Nov 2025) EllapsedTime: 16.6 seconds RetCode: 0 Status: OK