Package: ddPCRclust Version: 1.30.0 Command: /Library/Frameworks/R.framework/Resources/bin/R CMD build --keep-empty-dirs --no-resave-data ddPCRclust StartedAt: 2025-11-03 16:42:23 -0500 (Mon, 03 Nov 2025) EndedAt: 2025-11-03 16:43:10 -0500 (Mon, 03 Nov 2025) EllapsedTime: 46.8 seconds RetCode: 0 Status: OK PackageFile: ddPCRclust_1.30.0.tar.gz PackageFileSize: 1.192 MiB