Package: ddPCRclust Version: 1.30.0 Command: rm -rf ddPCRclust.buildbin-libdir && mkdir ddPCRclust.buildbin-libdir && /Users/biocbuild/BBS/utils/build-universal.sh ddPCRclust_1.30.0.tar.gz /Library/Frameworks/R.framework/Resources/bin/R ddPCRclust.buildbin-libdir StartedAt: 2025-11-04 01:36:05 -0500 (Tue, 04 Nov 2025) EndedAt: 2025-11-04 01:36:24 -0500 (Tue, 04 Nov 2025) EllapsedTime: 19.8 seconds RetCode: 0 Status: OK PackageFile: ddPCRclust_1.30.0.tgz PackageFileSize: 1.343 MiB