Package: ddPCRclust Version: 1.30.0 Command: /Library/Frameworks/R.framework/Resources/bin/R CMD INSTALL ddPCRclust StartedAt: 2025-11-17 17:22:57 -0500 (Mon, 17 Nov 2025) EndedAt: 2025-11-17 17:23:02 -0500 (Mon, 17 Nov 2025) EllapsedTime: 5.0 seconds RetCode: 0 Status: OK